Workbook

Sheet Quadre Preus
A1: N.º EXP AB/SAN/???? | B1: ESCOMESA I AUTOMATITZACIÓ DE LA BASSA DE LA VALL BAIXA (SANT VICENÇ DELS HORTS) | C1: NOM LICITADOR
A2: QUADRE DE PREUS
A4: Codi | B4: Descripció | C4: Unitat | D4: Preu Unitari
A6: 1.1 | B6: PROJECTE
A7: PL01 | B7: ENGINYERIA DE DETALL OBJECTE DEL CONCURS - Enginyeria de detall constructiva - Enginyeria de detall elèctrica - Enginyeria de detall dels programes dels PLCs i HMI - Enginyeria de detall ampliacions SCADA | C7: ud. | D7: 0
A9: 1.2 | B9: ESCOMESA ELÈCTRICA
A10: EE01 | B10: OBRA RECEPCIÓ ESCOMESA - Creació de puntalet d'escomesa aèria i nínxol al límit de la zona pública/privada de la parcela, amb accés directe 24h i també de caixa de protecció i mesura (CPM), segons especificacions de distribuidora del ANNEX 01. Inclou esbrossat zona. | C10: ud. | D10: 0
A11: EE02 | B11: OBRA DES DE RECEPCIÓ ESCOMESA FINS CASETA DE CONTROL - Canalització de serveis amb dos conductes de polieitilè corrugat de doble paret, DN125 , formigonats, exacavació de 0,80 m de fondaria i 40 cm d'ample, recoberts amb sorra, cinta de senyalització, rebliment de terres de la propia excavació. Longitud estimada 60 ml. | C11: ud. | D11: 0
A12: EE03 | B12: LEGALITZACIÓ INSTAL·LACIÓ ELÈCTRICA | C12: ud. | D12: 0
A13: EE04 | B13: CABLES INTERIORS ESCOMESA ELÈCTRICA - Subministrament i instal·lació de cables interiors entre obra recepció escomesa i caseta de control | C13: ud. | D13: 0
A15: 1.3 | B15: OBRA CIVIL
A16: OC01 | B16: OBRA CONNEXIÓ ARQUETA VÀLVULES A CASETA CONTROL - Canalització de serveis amb dos conductes de polieitilè corrugat de doble paret, DN63 , exacavació de 0,75 m de fondaria i 30 cm d'ample, recoberts amb sorra, cinta de senyalització, rebliment de terres de la propia excavació. Longitud estimada 12 ml. | C16: ud. | D16: 0
A17: OC02 | B17: OBRA CONNEXIO CASETA DE CONTROL I MESURA DE NIVELL BASSA - Canalització de serveis amb dos conductes de polieitilè corrugat de doble paret, DN63 , exacavació de 0,75 m de fondaria i 30 cm d'ample, recoberts amb sorra, cinta de senyalització, rebliment de terres de la propia excavació. Longitud esimada 18ml. - Inclou arqueta de registre prefabricada de 30x30x30cm amb tapa de 40x40cm | C17: ud. | D17: 0
A18: OC03 | B18: REMODELACIÓ D'ARQUETA EXISTENT PER EQUIPS HIDRÀULICS BASSA DE LA VALL BAIXA - Embragatge i elevació d'estructures de formigó armat, i retirada a un costat amb grua de l'element de coberta de l'arqueta, i posterior col·locació al finalitzar els treballs. Pes estimat de la llosa 15 tn. - Perforació de mur de formigó armat per a formació de passamurs fins a 200 mm de diàmetre nominal amb un gruix de paret entre 20 i 30 cm amb equip de barrinat amb broca de diamant intercambiable, entre 100 i 400 mm de diàmetre. - Demolició de massissos d'obra de fàbrica o formigó en interior de l'arqueta, extracció de runa i càrrega sobre camió. - Càrrega amb mitjans mecànics i transport de residus inerts o no especials a instal·lació autoritzada de gestió de residus, amb camió per a transport de 12 t, amb un recorregut de més de 10 i fins a 15 km. - Deposició controlada a centre de reciclatge de residus barrejats inerts amb una densitat 1,0 t/m3, procedents de construcció o demolició, amb codi 170107 segons la Llista Europea de Residus. - Subministrament i instal·lació de graons (fins a 20 graons) per a pou de registre de polipropilè armat, de 250x350x250 mm i 3 kg de pes, col·locat amb morter de ciment 1:6, elaborat a l'obra. - Subministrament i instal·lació de dispositiu de seguretat consistent en una barra telescòpica retràctil i base de suport per a instal·lació en paret o pates dins d'arqueta. Material: acer inoxidable AIXI 316 efecte pulit mirall. De marca IVERNA 2000 o similar. Completament muntat i en funcionament. - Inclou suministrament i instal·lació d'elements de reacció/suport per equips hidràulics (colzes, vàlvules, reduccions, cabalímetre, etc.) de fàbrica de bloc o formigó, inclòs p.p. d'abarcons i tacs d'ancoratge químic. - Subministrament i instal·lació de punt de llum en interior de l'arqueta de vàlvules, inclòs cablejat i proteccions. - Formació de nou registre d'accés de personal en la llosa de coberta de l'arqueta. Perforació de quatre taladres amb broca , tall de la llosa amb disc o fil de diamant formant una obertura de 75x75 cm, per inserir bastiment de fosa dúctil quadrat de 910x910 mm, amb orificis d'ancoratge, i dues tapes triangulars amb articulació integrada i pas lliure 750x750 mm, tipus D400 segons norma EN124, instal·lada. | C18: ud. | D18: 0
A19: OC04 | B19: CONDICIONAMENT CASETA EXISTENT - Esbrossada i neteja voltants caseta - Buidat, neteja i pintura interior caseta - Pintura exterior caseta - Adequació entrada subterrania de tubulars | C19: ud. | D19: 0
A20: OC05 | B20: SUBMINISTRAMENT I INSTAL·LACIÓ PORTA BLINDADA PER CASETA EXISTENT - Retirada totxanes actuals - Tancament mitjançant pany i candaus amb clau tipus Aigües de Barcelona | C20: ud. | D20: 0
A21: OC06 | B21: OBRA PER INSTAL·LACIÓ DE SENSOR NIVELL EN BASSA - Subministrament tub rígit polietilé diametre 40mm. Longuitud estimada 13ml. - Subministrament abraçaderes per subjecció de tub rígit en llosses dins bassa inox 316L. 2 abraçaderes per llossa, 2 llosses. | C21: ud. | D21: 0
A23: 1.4 | B23: ARMARIS
A24: AR01 | B24: SUBMINISTRAMENT ARMARI ACER SCHNEIDER PANELSET SM, O SIMILAR. - D'ample 1000mm, alçada 1800mm i fons 500mm - Protecció IP55 - Placa de fons - Dos portes cegues amb maneta - Suports de fixació mural - Portadocuments - Socol de 100mm - Regleta de posada a terra - Iluminació interior LED - Interruptor de porta | C24: ud. | D24: 0
A26: 1.5 | B26: INSTAL·LACIONS ELÈCTRIQUES 220VCA
A27: 220VCA01 | B27: ILUMINACIÓ INTERIOR CASETA - Subministrament i instal·lació de punt de llum en interior de caseta de control, inclòs cablejat i proteccions. | C27: ud. | D27: 0
A28: 220VCA02 | B28: ILUMINACIÓ EXTERIOR CASETA - Subministrament i instal·lació de punt de llum en l'exterior de la caseta de control, amb braç mural d'alumini de entre 75 i 100 cm, ancorat a la paret amb ancoratge químic o mecànic, i luminària LED per exterior (100-150 lux), grau de protecció IP66, inclós cablejat, encesa amb sensor de moviment temporitzat, i connexionat a quadre elèctric, amb proteccions. | C28: ud. | D28: 0
A30: 1.6 | B30: EQUIPS CONTROL
A31: EC01 | B31: SUBMINISTRAMEN DE CABALÍMETRE DN500, PN10 - Cabalímetre electromagnètic - Brides EN1092-1 d'acer al carboni - 0xDN trams d'entrada/sortida - Electrodes acer inox 316L - Recobriment intern de goma dura - Electrònica remota amb 10m de cable - Caixa de l'electrònica de policarbonat - Autodiagnosi (Heartbeat + Monitorització) - Comunicació Ethernet/IP - Amb pantalla de protecció ambiental per electrònica - Alimentació AC 100..240 i AC/DC 24V - Marca Endress+Hauser, model W400 o similar | C31: ud. | D31: 0
A32: EC02 | B32: SUBMINISTRAMENT DE REDUCTURA I MOTOR PER VÀLVULA PAPALLONA DN600 PN10 SORTIDA BASSA - Segons norma EN 15714-2:2010 per actuadors elèctrics per vàlvules industrials - Per servei tipus modulant S4-25% (fins a 1.200 engegades per hora) - Connexions elèctriques mitjançant connector multipolar - Connexió a la vàlvula segons norma ISO 5210 - Protecció IP68 - Recorregut de 90º - Vida útil de 10.000 cicles Obert-Tancat-Obert - Per un parell màxim de la vàlvula de 2.400 Nm - Senyal analògica d’entrada de 4..20mA pel control de la posició - Senyal analògica de sortida de 4..20mA per informar de la posició - Precisió de la posició de 3º o superior - Amb senyals de final de carrera i límit de parell - Amb possibilitat d’operació local mitjançant polsadors Obrir-Aturar-Tancar. - Amb volant per operació manual - Amb comunicació Ethernet/IP de Rockwell - Alimentació trifàsica 400VAC - Marca AUMA, model GS-100.3(208:1)/SAR 07.6/AC 01.2 o similar | C32: ud. | D32: 0
A33: EC03 | B33: SUBMINISTRAMENT DE REDUCTURA I MOTOR PER VÀLVULA PAPALLONA DN700 PN10 ENTRADA BASSA - Segons norma EN 15714-2:2010 per actuadors elèctrics per vàlvules industrials - Per servei tipus ON-OFF S2-15min - Connexions elèctriques mitjançant connector multipolar - Connexió a la vàlvula segons norma ISO 5210 - Protecció IP68 - Recorregut de 90º - Vida útil de 10.000 cicles Obert-Tancat-Obert - Per un parell màxim de la vàlvula de 3.400 Nm - Amb senyals de final de carrera i límit de parell - Amb possibilitat d’operació local mitjançant polsadors Obrir-Aturar-Tancar. - Amb volant per operació manual - Alimentació trifàsica 400VAC - Marca AUMA, GS-125.3(208:1)/SA 10.2/AC 01.2 o similar | C33: ud. | D33: 0
A34: EC04 | B34: SUBMINISTRAMENT DE REDUCTURA I MOTOR PER VÀLVULA PAPALLONA DN500 PN10 BY-PASS BASSA - Segons norma EN 15714-2:2010 per actuadors elèctrics per vàlvules industrials - Per servei tipus ON-OFF S2-15min - Connexions elèctriques mitjançant connector multipolar - Connexió a la vàlvula segons norma ISO 5210 - Protecció IP68 - Recorregut de 90º - Vida útil de 10.000 cicles Obert-Tancat-Obert - Per un parell màxim de la vàlvula de 1.700 Nm - Amb senyals de final de carrera i límit de parell - Amb possibilitat d’operació local mitjançant polsadors Obrir-Aturar-Tancar. - Amb volant per operació manual - Alimentació trifàsica 400VAC - Marca AUMA, GS-100.3(208:1)/SA 07.6/AC 01.2 o similar | C34: ud. | D34: 0
A36: 1.7 | B36: SENSORS TELECONTROL
A37: ET01 | B37: SUBMINISTRAMENT NIVELL HIDROSTÀTIC - Marca VEGA, model VEGAWELL 52 o similar - Mesura d'alçada d'aigüa per pressió hidrostàtica - Amb capilar de compensació atmosférica - Senyal de sortida 4-20mA - Alimentat a 24VDC - Rang de mesura 0..1 bar (0..10 metres) - 20 metres de cable - Amb ganxo de suport inox 316L | C37: ud. | D37: 0
A38: ET02 | B38: SUBMINISTRAMENT DE CAIXA DE CONNEXIÓ NIVELL HIDROSTÀTIC I COMPENSACIÓ DE PRESSIÓ ATMOSFÈRICA - marca VEGA, modelo VEGABOX 03 o similar - Carcasa de plàstic IP66 - Filtre per conpensació de pressió atmosfèrica - Suport mural o carril DIN - Entrada de cable M20x1.5/prensaestopa PA negre (diàmetre 5-9mm) | C38: ud. | D38: 0
A40: 1.8 | B40: PLCS
A41: 5069-L320ER | B41: SUBMINISTRAMENT PLC Controller, CompactLogix 5380, 2 MB User Memory, 16 I/Os, 40 EtherNet/IP Devices | C41: ud. | D41: 0
A42: 5069-RTB4-SCREW | B42: SUBMINISTRAMENT TERMINAL DE CONEXIÓ PER ALIMENTACIÓ MOD PLC COMPACTLOGIX Terminal de conexión de alimentación MOD del PLC (con tornillos) | C42: ud. | D42: 0
A43: 1784-SDHC8 | B43: SUBMINISTRAMENT TARJA SD 8GB PER PLC COMPACTLOGIX O SWITCH STRATIX O HMI PANEL VIEW PLUS | C43: ud. | D43: 0
A44: 1734-AENTR | B44: SUBMINISTRAMENT DE CAPÇALETRA POINT I/O Point I/O: 2-Port EtherNet I/O Adapter Module | C44: ud. | D44: 0
A45: 1734-IB8 | B45: SUBMINISTRAMENT TARJA POINT I/O 8 ENTRADES DIGITALS 24V Dc 8 Channel Sink Input Module | C45: ud. | D45: 0
A46: 1734-OB8E | B46: SUBMINISTRAMENT TARJA POINT I/O 8 SORTIDES DIGITALS 24V Dc8 Channel Source Output Module, Electronically Protected | C46: ud. | D46: 0
A47: 1734-IE4C | B47: SUBMINISTRAMENT TARJA POINT I/O 8 ENTRADES ANALÒGIQUES (4-20mA) 24V Dc 8 Channel Analog Current Input Module | C47: ud. | D47: 0
A48: 1734-OE4C | B48: SUBMINISTRAMENT TARJA POINT I/O 4 SORTIDES ANALÒGIQUES (4-20mA) 24V Dc 4 Points Analog Current Output Module | C48: ud. | D48: 0
A49: 1734-TB | B49: SUBMINISTRAMENT BASE PER TARGES POINT I/O AMB TERMINALS DE CONNEXIÓ AMB CARGOL POINT I/O 8 Terminal Base with screw | C49: ud. | D49: 0
...

Sheet Pressupost
A1: ='Quadre Preus'!A1 -> N.º EXP AB/SAN/???? | B1: ='Quadre Preus'!B1 -> ESCOMESA I AUTOMATITZACIÓ DE LA BASSA DE LA VALL BAIXA (SANT VICENÇ DELS HORTS) | D1: ='Quadre Preus'!C1 -> NOM LICITADOR
A2: Presupuesto
A4: Codi | B4: Unitats | C4: Descripció | D4: Quantitat | E4: Preu Unitari | F4: Import
A6: ='Quadre Preus'!A6 -> 1.1 | C6: ='Quadre Preus'!B6 -> PROJECTE
A7: ='Quadre Preus'!A7 -> PL01 | B7: ='Quadre Preus'!C7 -> ud. | C7: ='Quadre Preus'!B7 -> ENGINYERIA DE DETALL OBJECTE DEL CONCURS - Enginyeria de detall constructiva - Enginyeria de detall elèctrica - Enginyeria de detall dels programes dels PLCs i HMI - Enginyeria de detall ampliacions SCADA | D7: 1 | E7: ='Quadre Preus'!D7 -> 0 | F7: =ROUND(D7*E7,2) -> 0
C8: ="TOTAL " & A6 & C6 -> TOTAL 1.1 PROJECTE | F8: =SUM(F7) -> 0
A10: ='Quadre Preus'!A9 -> 1.2 | C10: ='Quadre Preus'!B9 -> ESCOMESA ELÈCTRICA
A11: ='Quadre Preus'!A10 -> EE01 | B11: ='Quadre Preus'!C10 -> ud. | C11: ='Quadre Preus'!B10 -> OBRA RECEPCIÓ ESCOMESA - Creació de puntalet d'escomesa aèria i nínxol al límit de la zona pública/privada de la parcela, amb accés directe 24h i també de caixa de protecció i mesura (CPM), segons especificacions de distribuidora del ANNEX 01. Inclou esbrossat zona. | D11: 1 | E11: ='Quadre Preus'!D10 -> 0 | F11: =ROUND(D11*E11,2) -> 0
A12: ='Quadre Preus'!A11 -> EE02 | B12: ='Quadre Preus'!C11 -> ud. | C12: ='Quadre Preus'!B11 -> OBRA DES DE RECEPCIÓ ESCOMESA FINS CASETA DE CONTROL - Canalització de serveis amb dos conductes de polieitilè corrugat de doble paret, DN125 , formigonats, exacavació de 0,80 m de fondaria i 40 cm d'ample, recoberts amb sorra, cinta de senyalització, rebliment de terres de la propia excavació. Longitud estimada 60 ml. | D12: 1 | E12: ='Quadre Preus'!D11 -> 0 | F12: =ROUND(D12*E12,2) -> 0
A13: ='Quadre Preus'!A12 -> EE03 | B13: ='Quadre Preus'!C12 -> ud. | C13: ='Quadre Preus'!B12 -> LEGALITZACIÓ INSTAL·LACIÓ ELÈCTRICA | D13: 1 | E13: ='Quadre Preus'!D12 -> 0 | F13: =ROUND(D13*E13,2) -> 0
A14: ='Quadre Preus'!A13 -> EE04 | B14: ='Quadre Preus'!C13 -> ud. | C14: ='Quadre Preus'!B13 -> CABLES INTERIORS ESCOMESA ELÈCTRICA - Subministrament i instal·lació de cables interiors entre obra recepció escomesa i caseta de control | D14: 1 | E14: ='Quadre Preus'!D13 -> 0 | F14: =ROUND(D14*E14,2) -> 0
C15: ="TOTAL " & A10 & C10 -> TOTAL 1.2 ESCOMESA ELÈCTRICA | F15: =SUM(F11:F14) -> 0
A17: ='Quadre Preus'!A15 -> 1.3 | C17: ='Quadre Preus'!B15 -> OBRA CIVIL
A18: ='Quadre Preus'!A16 -> OC01 | B18: ='Quadre Preus'!C16 -> ud. | C18: ='Quadre Preus'!B16 -> OBRA CONNEXIÓ ARQUETA VÀLVULES A CASETA CONTROL - Canalització de serveis amb dos conductes de polieitilè corrugat de doble paret, DN63 , exacavació de 0,75 m de fondaria i 30 cm d'ample, recoberts amb sorra, cinta de senyalització, rebliment de terres de la propia excavació. Longitud estimada 12 ml. | D18: 1 | E18: ='Quadre Preus'!D16 -> 0 | F18: =ROUND(D18*E18,2) -> 0
A19: ='Quadre Preus'!A17 -> OC02 | B19: ='Quadre Preus'!C17 -> ud. | C19: ='Quadre Preus'!B17 -> OBRA CONNEXIO CASETA DE CONTROL I MESURA DE NIVELL BASSA - Canalització de serveis amb dos conductes de polieitilè corrugat de doble paret, DN63 , exacavació de 0,75 m de fondaria i 30 cm d'ample, recoberts amb sorra, cinta de senyalització, rebliment de terres de la propia excavació. Longitud esimada 18ml. - Inclou arqueta de registre prefabricada de 30x30x30cm amb tapa de 40x40cm | D19: 1 | E19: ='Quadre Preus'!D17 -> 0 | F19: =ROUND(D19*E19,2) -> 0
A20: ='Quadre Preus'!A18 -> OC03 | B20: ='Quadre Preus'!C18 -> ud. | C20: ='Quadre Preus'!B18 -> REMODELACIÓ D'ARQUETA EXISTENT PER EQUIPS HIDRÀULICS BASSA DE LA VALL BAIXA - Embragatge i elevació d'estructures de formigó armat, i retirada a un costat amb grua de l'element de coberta de l'arqueta, i posterior col·locació al finalitzar els treballs. Pes estimat de la llosa 15 tn. - Perforació de mur de formigó armat per a formació de passamurs fins a 200 mm de diàmetre nominal amb un gruix de paret entre 20 i 30 cm amb equip de barrinat amb broca de diamant intercambiable, entre 100 i 400 mm de diàmetre. - Demolició de massissos d'obra de fàbrica o formigó en interior de l'arqueta, extracció de runa i càrrega sobre camió. - Càrrega amb mitjans mecànics i transport de residus inerts o no especials a instal·lació autoritzada de gestió de residus, amb camió per a transport de 12 t, amb un recorregut de més de 10 i fins a 15 km. - Deposició controlada a centre de reciclatge de residus barrejats inerts amb una densitat 1,0 t/m3, procedents de construcció o demolició, amb codi 170107 segons la Llista Europea de Residus. - Subministrament i instal·lació de graons (fins a 20 graons) per a pou de registre de polipropilè armat, de 250x350x250 mm i 3 kg de pes, col·locat amb morter de ciment 1:6, elaborat a l'obra. - Subministrament i instal·lació de dispositiu de seguretat consistent en una barra telescòpica retràctil i base de suport per a instal·lació en paret o pates dins d'arqueta. Material: acer inoxidable AIXI 316 efecte pulit mirall. De marca IVERNA 2000 o similar. Completament muntat i en funcionament. - Inclou suministrament i instal·lació d'elements de reacció/suport per equips hidràulics (colzes, vàlvules, reduccions, cabalímetre, etc.) de fàbrica de bloc o formigó, inclòs p.p. d'abarcons i tacs d'ancoratge químic. - Subministrament i instal·lació de punt de llum en interior de l'arqueta de vàlvules, inclòs cablejat i proteccions. - Formació de nou registre d'accés de personal en la llosa de coberta de l'arqueta. Perforació de quatre taladres amb broca , tall de la llosa amb disc o fil de diamant formant una obertura de 75x75 cm, per inserir bastiment de fosa dúctil quadrat de 910x910 mm, amb orificis d'ancoratge, i dues tapes triangulars amb articulació integrada i pas lliure 750x750 mm, tipus D400 segons norma EN124, instal·lada. | D20: 1 | E20: ='Quadre Preus'!D18 -> 0 | F20: =ROUND(D20*E20,2) -> 0
A21: ='Quadre Preus'!A19 -> OC04 | B21: ='Quadre Preus'!C19 -> ud. | C21: ='Quadre Preus'!B19 -> CONDICIONAMENT CASETA EXISTENT - Esbrossada i neteja voltants caseta - Buidat, neteja i pintura interior caseta - Pintura exterior caseta - Adequació entrada subterrania de tubulars | D21: 1 | E21: ='Quadre Preus'!D19 -> 0 | F21: =ROUND(D21*E21,2) -> 0
A22: ='Quadre Preus'!A20 -> OC05 | B22: ='Quadre Preus'!C20 -> ud. | C22: ='Quadre Preus'!B20 -> SUBMINISTRAMENT I INSTAL·LACIÓ PORTA BLINDADA PER CASETA EXISTENT - Retirada totxanes actuals - Tancament mitjançant pany i candaus amb clau tipus Aigües de Barcelona | D22: 1 | E22: ='Quadre Preus'!D20 -> 0 | F22: =ROUND(D22*E22,2) -> 0
A23: ='Quadre Preus'!A21 -> OC06 | B23: ='Quadre Preus'!C21 -> ud. | C23: ='Quadre Preus'!B21 -> OBRA PER INSTAL·LACIÓ DE SENSOR NIVELL EN BASSA - Subministrament tub rígit polietilé diametre 40mm. Longuitud estimada 13ml. - Subministrament abraçaderes per subjecció de tub rígit en llosses dins bassa inox 316L. 2 abraçaderes per llossa, 2 llosses. | D23: 1 | E23: ='Quadre Preus'!D21 -> 0 | F23: =ROUND(D23*E23,2) -> 0
C24: ="TOTAL " & A17 & C17 -> TOTAL 1.3 OBRA CIVIL | F24: =SUM(F18:F23) -> 0
A26: ='Quadre Preus'!A23 -> 1.4 | C26: ='Quadre Preus'!B23 -> ARMARIS
A27: ='Quadre Preus'!A24 -> AR01 | B27: ='Quadre Preus'!C24 -> ud. | C27: ='Quadre Preus'!B24 -> SUBMINISTRAMENT ARMARI ACER SCHNEIDER PANELSET SM, O SIMILAR. - D'ample 1000mm, alçada 1800mm i fons 500mm - Protecció IP55 - Placa de fons - Dos portes cegues amb maneta - Suports de fixació mural - Portadocuments - Socol de 100mm - Regleta de posada a terra - Iluminació interior LED - Interruptor de porta | D27: 1 | E27: ='Quadre Preus'!D24 -> 0 | F27: =ROUND(D27*E27,2) -> 0
C28: ="TOTAL " & A26 & C26 -> TOTAL 1.4 ARMARIS | F28: =SUM(F27) -> 0
A30: ='Quadre Preus'!A26 -> 1.5 | C30: ='Quadre Preus'!B26 -> INSTAL·LACIONS ELÈCTRIQUES 220VCA
A31: ='Quadre Preus'!A27 -> 220VCA01 | B31: ='Quadre Preus'!C27 -> ud. | C31: ='Quadre Preus'!B27 -> ILUMINACIÓ INTERIOR CASETA - Subministrament i instal·lació de punt de llum en interior de caseta de control, inclòs cablejat i proteccions. | D31: 1 | E31: ='Quadre Preus'!D27 -> 0 | F31: =ROUND(D31*E31,2) -> 0
A32: ='Quadre Preus'!A28 -> 220VCA02 | B32: ='Quadre Preus'!C28 -> ud. | C32: ='Quadre Preus'!B28 -> ILUMINACIÓ EXTERIOR CASETA - Subministrament i instal·lació de punt de llum en l'exterior de la caseta de control, amb braç mural d'alumini de entre 75 i 100 cm, ancorat a la paret amb ancoratge químic o mecànic, i luminària LED per exterior (100-150 lux), grau de protecció IP66, inclós cablejat, encesa amb sensor de moviment temporitzat, i connexionat a quadre elèctric, amb proteccions. | D32: 1 | E32: ='Quadre Preus'!D28 -> 0 | F32: =ROUND(D32*E32,2) -> 0
C33: ="TOTAL " & A30 & C30 -> TOTAL 1.5 INSTAL·LACIONS ELÈCTRIQUES 220VCA | F33: =SUM(F31:F32) -> 0
A35: ='Quadre Preus'!A30 -> 1.6 | C35: ='Quadre Preus'!B30 -> EQUIPS CONTROL
A36: ='Quadre Preus'!A31 -> EC01 | B36: ='Quadre Preus'!C31 -> ud. | C36: ='Quadre Preus'!B31 -> SUBMINISTRAMEN DE CABALÍMETRE DN500, PN10 - Cabalímetre electromagnètic - Brides EN1092-1 d'acer al carboni - 0xDN trams d'entrada/sortida - Electrodes acer inox 316L - Recobriment intern de goma dura - Electrònica remota amb 10m de cable - Caixa de l'electrònica de policarbonat - Autodiagnosi (Heartbeat + Monitorització) - Comunicació Ethernet/IP - Amb pantalla de protecció ambiental per electrònica - Alimentació AC 100..240 i AC/DC 24V - Marca Endress+Hauser, model W400 o similar | D36: 1 | E36: ='Quadre Preus'!D31 -> 0 | F36: =ROUND(D36*E36,2) -> 0
A37: ='Quadre Preus'!A32 -> EC02 | B37: ='Quadre Preus'!C32 -> ud. | C37: ='Quadre Preus'!B32 -> SUBMINISTRAMENT DE REDUCTURA I MOTOR PER VÀLVULA PAPALLONA DN600 PN10 SORTIDA BASSA - Segons norma EN 15714-2:2010 per actuadors elèctrics per vàlvules industrials - Per servei tipus modulant S4-25% (fins a 1.200 engegades per hora) - Connexions elèctriques mitjançant connector multipolar - Connexió a la vàlvula segons norma ISO 5210 - Protecció IP68 - Recorregut de 90º - Vida útil de 10.000 cicles Obert-Tancat-Obert - Per un parell màxim de la vàlvula de 2.400 Nm - Senyal analògica d’entrada de 4..20mA pel control de la posició - Senyal analògica de sortida de 4..20mA per informar de la posició - Precisió de la posició de 3º o superior - Amb senyals de final de carrera i límit de parell - Amb possibilitat d’operació local mitjançant polsadors Obrir-Aturar-Tancar. - Amb volant per operació manual - Amb comunicació Ethernet/IP de Rockwell - Alimentació trifàsica 400VAC - Marca AUMA, model GS-100.3(208:1)/SAR 07.6/AC 01.2 o similar | D37: 1 | E37: ='Quadre Preus'!D32 -> 0 | F37: =ROUND(D37*E37,2) -> 0
A38: ='Quadre Preus'!A33 -> EC03 | B38: ='Quadre Preus'!C33 -> ud. | C38: ='Quadre Preus'!B33 -> SUBMINISTRAMENT DE REDUCTURA I MOTOR PER VÀLVULA PAPALLONA DN700 PN10 ENTRADA BASSA - Segons norma EN 15714-2:2010 per actuadors elèctrics per vàlvules industrials - Per servei tipus ON-OFF S2-15min - Connexions elèctriques mitjançant connector multipolar - Connexió a la vàlvula segons norma ISO 5210 - Protecció IP68 - Recorregut de 90º - Vida útil de 10.000 cicles Obert-Tancat-Obert - Per un parell màxim de la vàlvula de 3.400 Nm - Amb senyals de final de carrera i límit de parell - Amb possibilitat d’operació local mitjançant polsadors Obrir-Aturar-Tancar. - Amb volant per operació manual - Alimentació trifàsica 400VAC - Marca AUMA, GS-125.3(208:1)/SA 10.2/AC 01.2 o similar | D38: 1 | E38: ='Quadre Preus'!D33 -> 0 | F38: =ROUND(D38*E38,2) -> 0
A39: ='Quadre Preus'!A34 -> EC04 | B39: ='Quadre Preus'!C34 -> ud. | C39: ='Quadre Preus'!B34 -> SUBMINISTRAMENT DE REDUCTURA I MOTOR PER VÀLVULA PAPALLONA DN500 PN10 BY-PASS BASSA - Segons norma EN 15714-2:2010 per actuadors elèctrics per vàlvules industrials - Per servei tipus ON-OFF S2-15min - Connexions elèctriques mitjançant connector multipolar - Connexió a la vàlvula segons norma ISO 5210 - Protecció IP68 - Recorregut de 90º - Vida útil de 10.000 cicles Obert-Tancat-Obert - Per un parell màxim de la vàlvula de 1.700 Nm - Amb senyals de final de carrera i límit de parell - Amb possibilitat d’operació local mitjançant polsadors Obrir-Aturar-Tancar. - Amb volant per operació manual - Alimentació trifàsica 400VAC - Marca AUMA, GS-100.3(208:1)/SA 07.6/AC 01.2 o similar | D39: 1 | E39: ='Quadre Preus'!D34 -> 0 | F39: =ROUND(D39*E39,2) -> 0
C40: ="TOTAL " & A35 & C35 -> TOTAL 1.6 EQUIPS CONTROL | F40: =SUM(F36:F39) -> 0
A42: ='Quadre Preus'!A36 -> 1.7 | C42: ='Quadre Preus'!B36 -> SENSORS TELECONTROL
A43: ='Quadre Preus'!A37 -> ET01 | B43: ='Quadre Preus'!C37 -> ud. | C43: ='Quadre Preus'!B37 -> SUBMINISTRAMENT NIVELL HIDROSTÀTIC - Marca VEGA, model VEGAWELL 52 o similar - Mesura d'alçada d'aigüa per pressió hidrostàtica - Amb capilar de compensació atmosférica - Senyal de sortida 4-20mA - Alimentat a 24VDC - Rang de mesura 0..1 bar (0..10 metres) - 20 metres de cable - Amb ganxo de suport inox 316L | D43: 1 | E43: ='Quadre Preus'!D37 -> 0 | F43: =ROUND(D43*E43,2) -> 0
A44: ='Quadre Preus'!A38 -> ET02 | B44: ='Quadre Preus'!C38 -> ud. | C44: ='Quadre Preus'!B38 -> SUBMINISTRAMENT DE CAIXA DE CONNEXIÓ NIVELL HIDROSTÀTIC I COMPENSACIÓ DE PRESSIÓ ATMOSFÈRICA - marca VEGA, modelo VEGABOX 03 o similar - Carcasa de plàstic IP66 - Filtre per conpensació de pressió atmosfèrica - Suport mural o carril DIN - Entrada de cable M20x1.5/prensaestopa PA negre (diàmetre 5-9mm) | D44: 1 | E44: ='Quadre Preus'!D38 -> 0 | F44: =ROUND(D44*E44,2) -> 0
C45: ="TOTAL " & A42 & C42 -> TOTAL 1.7 SENSORS TELECONTROL | F45: =SUM(F43:F44) -> 0
A47: ='Quadre Preus'!A40 -> 1.8 | C47: ='Quadre Preus'!B40 -> PLCS
A48: ='Quadre Preus'!A41 -> 5069-L320ER | B48: ='Quadre Preus'!C41 -> ud. | C48: ='Quadre Preus'!B41 -> SUBMINISTRAMENT PLC Controller, CompactLogix 5380, 2 MB User Memory, 16 I/Os, 40 EtherNet/IP Devices | D48: 1 | E48: ='Quadre Preus'!D41 -> 0 | F48: =ROUND(D48*E48,2) -> 0
A49: ='Quadre Preus'!A42 -> 5069-RTB4-SCREW | B49: ='Quadre Preus'!C42 -> ud. | C49: ='Quadre Preus'!B42 -> SUBMINISTRAMENT TERMINAL DE CONEXIÓ PER ALIMENTACIÓ MOD PLC COMPACTLOGIX Terminal de conexión de alimentación MOD del PLC (con tornillos) | D49: 1 | E49: ='Quadre Preus'!D42 -> 0 | F49: =ROUND(D49*E49,2) -> 0
...
