Workbook
Name BUCLE: #REF!
Name CORTE: #REF!
Name preus: #REF!
Name _Fill: #REF!
Name N_CONTR: #REF!
Name CORTE: #REF!
Name PRECIOS: #REF!
Name SUBCAP: #REF!
Name N_CONTR: #REF!
Name CONFIRMAR: #REF!
Name MACROS: #REF!
Name p: #REF!
Name BUCLE: #REF!
Name RUTINA: #REF!
Name CODIGO: #REF!
Name CONTA_2: #REF!
Name CONFIRMA: #REF!
Name MENU_1: #REF!
Name preus: #REF!
Name RUTINA: #REF!
Name E_TIT: #REF!
Name MENU_1: #REF!
Name _Fill: #REF!
Name PRECIOS: #REF!
Name CONTA_2: #REF!
Name CONFIRMAR: #REF!
Name RANGO_A: #REF!
Name E_TIT: #REF!
Name CODIGO: #REF!
Name SUBCAP: #REF!
Name RANGO_A: #REF!
Name MACROS: #REF!
Name CONFIRMA: #REF!
Name p: #REF!

Sheet COEF.
B1: ANEXO Nº 6.1 - CUADRO DE COEFICIENTES
B5: SUMINISTRO DE ENERGÍA ELÉCTRICA PRECIO VARIABLE (MULTICLICK) ECOFACTORÍAS 2027-2029 CON 100% DE ENERGÍA RENOVABLE
A6: Nº EXP.: AB/2025/099
B8: NOMBRE LICITADOR
B10: COEFICIENTES PARA EL CÁLCULO DEL TÉRMINO DE ENERGíA 2027
B11: TARIFA ACCESO | C11: 2.0TD | D11: P1 | E11: P2 | F11: P3 | G11: P4 | H11: P5 | I11: P6
B12: Coeficiente A (€/MWh)
B13: Coeficiente B (adimensional)
B14: Coeficiente C (€/MWh)
B15: Coeficiente D (adimensional)
B16: TARIFA ACCESO | C16: 3.0TD | D16: P1 | E16: P2 | F16: P3 | G16: P4 | H16: P5 | I16: P6
B17: Coeficiente A (€/MWh)
B18: Coeficiente B (adimensional)
B19: Coeficiente C (€/MWh)
B20: Coeficiente D (adimensional)
B21: TARIFA ACCESO | C21: 6.1TD | D21: P1 | E21: P2 | F21: P3 | G21: P4 | H21: P5 | I21: P6
B22: Coeficiente A (€/MWh)
B23: Coeficiente B (adimensional)
B24: Coeficiente C (€/MWh)
B25: Coeficiente D (adimensional)
B28: LUGAR Y FECHA
B29: FIRMA
B32: INSTRUCCIONES:
B33: (1) Introducir todos los coeficientes para cada periodo tarifario y tarifa de acceso, en las casillas amarillas, en las unidades indicadas y con un máximo de 3 cifras decimales
B34: (2) Los precios unitarios no deben incluir el Impuesto sobre el Valor Añadido (IVA) ni el Impuesto Eléctrico (IE)
B35: (3) Indicar el NOMBRE DEL LICITADOR y LUGAR, FECHA Y FIRMA en las casillas correspondientes
B36: (4) En caso de no cumplimentar algún precio unitario de la oferta, se considerará la oferta como incompleta, quedando ésta excluida del procedimiento de licitación.

Sheet IMPORTES
A1: ANEXO Nº 6.2 - CUADRO DE COEFICIENTES
A2: TABLA DE IMPORTES ESTIMADOS
A5: =COEF.!B5 -> SUMINISTRO DE ENERGÍA ELÉCTRICA PRECIO VARIABLE (MULTICLICK) ECOFACTORÍAS 2027-2029 CON 100% DE ENERGÍA RENOVABLE
A6: =COEF.!A6:I6 -> Nº EXP.: AB/2025/099
P7: =COEF.!I7
A8: =B3 | B8: NOMBRE LICITADOR | D8: =COEF.!D8
B10: COEFICIENTES PARA EL CÁLCULO DEL TÉRMINO DE ENERGíA 2027
B11: TARIFA ACCESO | C11: 2.0TD | D11: P1 | E11: P2 | F11: P3 | G11: P4 | H11: P5 | I11: P6
B12: Coeficiente A (€/MWh) | D12: =if(isblank(COEF.!D12),,round(COEF.!D12,3)) | E12: =if(isblank(COEF.!E12),,round(COEF.!E12,3)) | F12: =if(isblank(COEF.!F12),,round(COEF.!F12,3))
B13: Coeficiente B (adimensional) | D13: =if(isblank(COEF.!D13),,round(COEF.!D13,3)) | E13: =if(isblank(COEF.!E13),,round(COEF.!E13,3)) | F13: =if(isblank(COEF.!F13),,round(COEF.!F13,3))
B14: Coeficiente C (€/MWh) | D14: =if(isblank(COEF.!D14),,round(COEF.!D14,3)) | E14: =if(isblank(COEF.!E14),,round(COEF.!E14,3)) | F14: =if(isblank(COEF.!F14),,round(COEF.!F14,3))
B15: Coeficiente D (adimensional) | D15: =if(isblank(COEF.!D15),,round(COEF.!D15,3)) | E15: =if(isblank(COEF.!E15),,round(COEF.!E15,3)) | F15: =if(isblank(COEF.!F15),,round(COEF.!F15,3))
B16: TARIFA ACCESO | C16: 3.0TD | D16: P1 | E16: P2 | F16: P3 | G16: P4 | H16: P5 | I16: P6
B17: Coeficiente A (€/MWh) | D17: =if(isblank(COEF.!D17),,round(COEF.!D17,3)) | E17: =if(isblank(COEF.!E17),,round(COEF.!E17,3)) | F17: =if(isblank(COEF.!F17),,round(COEF.!F17,3)) | G17: =if(isblank(COEF.!G17),,round(COEF.!G17,3)) | H17: =if(isblank(COEF.!H17),,round(COEF.!H17,3)) | I17: =if(isblank(COEF.!I17),,round(COEF.!I17,3))
B18: Coeficiente B (adimensional) | D18: =if(isblank(COEF.!D18),,round(COEF.!D18,3)) | E18: =if(isblank(COEF.!E18),,round(COEF.!E18,3)) | F18: =if(isblank(COEF.!F18),,round(COEF.!F18,3)) | G18: =if(isblank(COEF.!G18),,round(COEF.!G18,3)) | H18: =if(isblank(COEF.!H18),,round(COEF.!H18,3)) | I18: =if(isblank(COEF.!I18),,round(COEF.!I18,3))
B19: Coeficiente C (€/MWh) | D19: =if(isblank(COEF.!D19),,round(COEF.!D19,3)) | E19: =if(isblank(COEF.!E19),,round(COEF.!E19,3)) | F19: =if(isblank(COEF.!F19),,round(COEF.!F19,3)) | G19: =if(isblank(COEF.!G19),,round(COEF.!G19,3)) | H19: =if(isblank(COEF.!H19),,round(COEF.!H19,3)) | I19: =if(isblank(COEF.!I19),,round(COEF.!I19,3))
B20: Coeficiente D (adimensional) | D20: =if(isblank(COEF.!D20),,round(COEF.!D20,3)) | E20: =if(isblank(COEF.!E20),,round(COEF.!E20,3)) | F20: =if(isblank(COEF.!F20),,round(COEF.!F20,3)) | G20: =if(isblank(COEF.!G20),,round(COEF.!G20,3)) | H20: =if(isblank(COEF.!H20),,round(COEF.!H20,3)) | I20: =if(isblank(COEF.!I20),,round(COEF.!I20,3))
B21: TARIFA ACCESO | C21: 6.1TD | D21: P1 | E21: P2 | F21: P3 | G21: P4 | H21: P5 | I21: P6
B22: Coeficiente A (€/MWh) | D22: =if(isblank(COEF.!D22),,round(COEF.!D22,3)) | E22: =if(isblank(COEF.!E22),,round(COEF.!E22,3)) | F22: =if(isblank(COEF.!F22),,round(COEF.!F22,3)) | G22: =if(isblank(COEF.!G22),,round(COEF.!G22,3)) | H22: =if(isblank(COEF.!H22),,round(COEF.!H22,3)) | I22: =if(isblank(COEF.!I22),,round(COEF.!I22,3))
B23: Coeficiente B (adimensional) | D23: =if(isblank(COEF.!D23),,round(COEF.!D23,3)) | E23: =if(isblank(COEF.!E23),,round(COEF.!E23,3)) | F23: =if(isblank(COEF.!F23),,round(COEF.!F23,3)) | G23: =if(isblank(COEF.!G23),,round(COEF.!G23,3)) | H23: =if(isblank(COEF.!H23),,round(COEF.!H23,3)) | I23: =if(isblank(COEF.!I23),,round(COEF.!I23,3))
B24: Coeficiente C (€/MWh) | D24: =if(isblank(COEF.!D24),,round(COEF.!D24,3)) | E24: =if(isblank(COEF.!E24),,round(COEF.!E24,3)) | F24: =if(isblank(COEF.!F24),,round(COEF.!F24,3)) | G24: =if(isblank(COEF.!G24),,round(COEF.!G24,3)) | H24: =if(isblank(COEF.!H24),,round(COEF.!H24,3)) | I24: =if(isblank(COEF.!I24),,round(COEF.!I24,3))
B25: Coeficiente D (adimensional) | D25: =if(isblank(COEF.!D25),,round(COEF.!D25,3)) | E25: =if(isblank(COEF.!E25),,round(COEF.!E25,3)) | F25: =if(isblank(COEF.!F25),,round(COEF.!F25,3)) | G25: =if(isblank(COEF.!G25),,round(COEF.!G25,3)) | H25: =if(isblank(COEF.!H25),,round(COEF.!H25,3)) | I25: =if(isblank(COEF.!I25),,round(COEF.!I25,3))
B27: PRECIOS CALCULADOS CON VALOR DE MERCADO PARA LA HOMOEGENEIZACIÓN (€/MWh)
B28: TARIFA ACCESO | C28: 2.0TD | D28: P1 | E28: P2 | F28: P3 | G28: P4 | H28: P5 | I28: P6
B29: Precio para OMIP (A, B) | D29: =D12+D13*$G$44 -> 0 | E29: =E12+E13*$G$44 -> 0 | F29: =F12+F13*$G$44 -> 0
B30: Precio para OMIE (C, D) | D30: =D14+D15*$G$44 -> 0 | E30: =E14+E15*$G$44 -> 0 | F30: =F14+F15*$G$44 -> 0
B31: TARIFA ACCESO | C31: 3.0TD | D31: P1 | E31: P2 | F31: P3 | G31: P4 | H31: P5 | I31: P6
B32: Precio para OMIP (A, B) | D32: =D17+D18*$G$44 -> 0 | E32: =E17+E18*$G$44 -> 0 | F32: =F17+F18*$G$44 -> 0 | G32: =G17+G18*$G$44 -> 0 | H32: =H17+H18*$G$44 -> 0 | I32: =I17+I18*$G$44 -> 0
B33: Precio para OMIE (C, D) | D33: =D19+D20*$G$44 -> 0 | E33: =E19+E20*$G$44 -> 0 | F33: =F19+F20*$G$44 -> 0 | G33: =G19+G20*$G$44 -> 0 | H33: =H19+H20*$G$44 -> 0 | I33: =I19+I20*$G$44 -> 0
B34: TARIFA ACCESO | C34: 6.1TD | D34: P1 | E34: P2 | F34: P3 | G34: P4 | H34: P5 | I34: P6
B35: Precio para OMIP (A, B) | D35: =D22+D23*$G$44 -> 0 | E35: =E22+E23*$G$44 -> 0 | F35: =F22+F23*$G$44 -> 0 | G35: =G22+G23*$G$44 -> 0 | H35: =H22+H23*$G$44 -> 0 | I35: =I22+I23*$G$44 -> 0
B36: Precio para OMIE (C, D) | D36: =D24+D25*$G$44 -> 0 | E36: =E24+E25*$G$44 -> 0 | F36: =F24+F25*$G$44 -> 0 | G36: =G24+G25*$G$44 -> 0 | H36: =H24+H25*$G$44 -> 0 | I36: =I24+I25*$G$44 -> 0
B38: COSTE CALCULADO (€) | C38: CONSUMOS ESTIMADOS 2027 (kWh)
C39: TARIFA ACCESO | D39: P1 | E39: P2 | F39: P3 | G39: P4 | H39: P5 | I39: P6
B40: =SUMPRODUCT(D29:F29,D40:F40)*0.8/1000+SUMPRODUCT(D30:F30,D40:F40)*0.2/1000 -> 0 | C40: =C11 -> 2.0TD | D40: 17338 | E40: 16540 | F40: 30855
B41: =SUMPRODUCT(D32:I32,D41:I41)*0.8/1000+SUMPRODUCT(D33:I33,D41:I41)*0.2/1000 -> 0 | C41: 3.0TD | D41: 154490 | E41: 194699 | F41: 167334 | G41: 201822 | H41: 92813 | I41: 679619
B42: =SUMPRODUCT(D35:I35,D42:I42)*0.8/1000+SUMPRODUCT(D36:I36,D42:I42)*0.2/1000 -> 0 | C42: 6.1TD | D42: 8860442 | E42: 11210671 | F42: 9369291 | G42: 11651192 | H42: 5505288 | I42: 50584375
B44: =IF(D25="","",SUM(B40,B41,B42)) | C44: Importe total estimado 2027 (sin IVA y sin I.E.) | F44: Calculado con OMIP, OMIE = | G44: 60 | H44: €/MWh
B45: =IF(D25="","",ROUND(B44+B44*($G$45/100),0)) | C45: Importe total estimado 2027 (sin IVA y con I.E.) | F45: Calculado con IEE bonificado = | G45: =5.1127*0.15 -> 0.766905 | H45: %
B47: =IF(B45="","",B45/(SUM(D40:F40,D41:I41,D42:I42)*1000)) | C47: Coste estimado ofertado (€/MWh)
...
