Workbook

Sheet CuadroPrecios
A1: N.º EXP AB/2025/104 | B1: SERVICIO DE TOPOGRAFÍA DE LA RED DE SANEAMIENTO EN ALTA DE LOS SISTEMAS DE SANEAMIENTO EN ALTA DE MONTCADA Y SANT FELIU DE LLOBREGAT | C1: NOMBRE LICITADOR
A2: CUADRO DE PRECIOS
A4: Código | B4: Elemento | C4: Unidades | D4: Precio Unitario
A6: 1.1 | B6: Elementos topografía sistema saneamiento alta Montcada
A7: TOPPR | B7: Topografia pozos de registro red de saneamiento alta Montcada | C7: ud. | D7: 0
A8: DIGPR | B8: Digitalización pozos de registro red de saneamiento alta Montcada | C8: ud. | D8: 0
A10: 1.2 | B10: Elementos topografía sistema de saneamiento alta Sant Feliu
A11: TOPPR | B11: Topografia pozos de registro red de saneamiento alta Sant Feliu | C11: ud. | D11: 0
A12: DIGPR | B12: Digitalización pozos de registro red de saneamiento alta Sant Feliu | C12: ud. | D12: 0
A14: 1.3 | B14: Partida alzada
A15: PA | B15: Partida alzada a justificar | C15: ud. | D15: 12930
B18: ( LUGAR, FECHA Y FIRMA)
B20: Los precios no incluyen el Impuesto sobre el Valor Añadido (IVA , 21%)
B23: INSTRUCCIONES:
B24: Los campos con formatos en color negro no son editables, SOLO INTRODUCIR LOS PRECIOS UNITARIOS (EN COLOR ROJO) PARA CADA PARTIDA

Sheet Presupuesto
A1: =CuadroPrecios!A1 -> N.º EXP AB/2025/104 | B1: =CuadroPrecios!B1 -> SERVICIO DE TOPOGRAFÍA DE LA RED DE SANEAMIENTO EN ALTA DE LOS SISTEMAS DE SANEAMIENTO EN ALTA DE MONTCADA Y SANT FELIU DE LLOBREGAT | D1: =CuadroPrecios!C1 -> NOMBRE LICITADOR
A2: Presupuesto
A4: Código | B4: Unidades | C4: Descripción | D4: Cantidad | E4: Precio Unitario | F4: Importe
A6: =CuadroPrecios!A6 -> 1.1 | C6: =CuadroPrecios!B6 -> Elementos topografía sistema saneamiento alta Montcada
A7: =CuadroPrecios!A7 -> TOPPR | B7: =CuadroPrecios!C7 -> ud. | C7: =CuadroPrecios!B7 -> Topografia pozos de registro red de saneamiento alta Montcada | D7: 598 | E7: =CuadroPrecios!D7 -> 0 | F7: =D7*E7 -> 0
A8: =CuadroPrecios!A8 -> DIGPR | B8: =CuadroPrecios!C8 -> ud. | C8: =CuadroPrecios!B8 -> Digitalización pozos de registro red de saneamiento alta Montcada | D8: 598 | E8: =CuadroPrecios!D8 -> 0 | F8: =D8*E8 -> 0
C10: ="TOTAL " & A5 & C5 -> TOTAL | F10: =SUM(F6:F8) -> 0
B11: =CuadroPrecios!C9
A12: =CuadroPrecios!A10 -> 1.2 | B12: =CuadroPrecios!C10 | C12: =CuadroPrecios!B10 -> Elementos topografía sistema de saneamiento alta Sant Feliu | D12: =CuadroPrecios!D10 | E12: =CuadroPrecios!E10 | F12: =CuadroPrecios!F10
A13: =CuadroPrecios!A11 -> TOPPR | B13: =CuadroPrecios!C11 -> ud. | C13: =CuadroPrecios!B11 -> Topografia pozos de registro red de saneamiento alta Sant Feliu | D13: 1723 | E13: =CuadroPrecios!D11 -> 0 | F13: =D13*E13 -> 0
A14: =CuadroPrecios!A12 -> DIGPR | B14: =CuadroPrecios!C12 -> ud. | C14: =CuadroPrecios!B12 -> Digitalización pozos de registro red de saneamiento alta Sant Feliu | D14: 1723 | E14: =CuadroPrecios!D12 -> 0 | F14: =D14*E14 -> 0
C16: ="TOTAL " & A11 & C11 -> TOTAL | F16: =SUM(F12:F14) -> 0
A17: =CuadroPrecios!A13 | B17: =CuadroPrecios!C13 | C17: =CuadroPrecios!B13
A18: =CuadroPrecios!A14 -> 1.3 | B18: =CuadroPrecios!C14 | C18: =CuadroPrecios!B14 -> Partida alzada
A19: =CuadroPrecios!A15 -> PA | B19: =CuadroPrecios!C15 -> ud. | C19: =CuadroPrecios!B15 -> Partida alzada a justificar | D19: 1 | E19: =CuadroPrecios!D15 -> 12930 | F19: =D19*E19 -> 12930
C21: ="TOTAL " -> TOTAL | F21: =SUM(F18:F19) -> 12930
C23: TOTAL EJECUCIÓN POR CONTRATO (SIN IVA)………………………………………. | F23: =F10+F16+F21 -> 12930
C25: IVA (21%) | F25: =+F23*0.21 -> 2715.3
C27: TOTAL EJECUCIÓN POR CONTRATO (IVA INCLUIDO)……………………………… | F27: =+F23+F25 -> 15645.3
C30: =CuadroPrecios!B18 -> ( LUGAR, FECHA Y FIRMA)
