Workbook

Sheet Anexo N. 8a - Cuadro de Precios
B1: REPOSICIÓN E INSTALACIÓN DE DIFERENTES EQUIPOS MECÁNICOS EN LA LÍNEA DE FANGOS EN EL PERÍMETRO DE SANEAMIENTO DE AIGÜES DE BARCELONA (Nº EXP.: AB/2025/060) | C1: NOMBRE LICITADOR
A4: LOTE Nº 1: Reposición e instalación de 4 bombas del depósito de fango biológico espesado a depósito de fango mixto en la EDAR de Besós
A5: CUADRO DE PRECIOS
A7: CÓDIGO | B7: DESCRIPCIÓN | C7: UNIDADES | D7: PRECIO UNITARIO
A8: 1 | B8: Suministro bomba impulsión fangos espesados según documento del PPT | C8: Ud
A9: 2 | B9: Montaje mecánico y eléctrico bomba hasta un perfecto funcionamiento | C9: Ud
A10: 3 | B10: Instalación y montaje de sensor de trabajo en vacío (sensor de temperatura) | C10: Ud
A11: 4 | B11: Partida alzada a justificar para la gestión de residuos generados durante la ejecución de los trabajos | C11: PA
A12: 5 | B12: Partida alzada a justificar para la Prevención de Riesgos Laborales durante la ejecución de los trabajos | C12: PA
B15: (LUGAR, FECHA Y FIRMA)
B22: Los precios no incluyen el Impuesto sobre el Valor Añadido (IVA, 21%).
B25: INSTRUCCIONES:
B26: Los campos con formatos en color negro no son editables, SÓLO INTRODUCIR LOS PRECIOS UNITARIOS (EN COLOR ROJO) PARA CADA PARTIDA

Sheet Anexo N. 9a - Presupuesto
C1: =+'Anexo N. 8a - Cuadro de Precios'!B1 -> REPOSICIÓN E INSTALACIÓN DE DIFERENTES EQUIPOS MECÁNICOS EN LA LÍNEA DE FANGOS EN EL PERÍMETRO DE SANEAMIENTO DE AIGÜES DE BARCELONA (Nº EXP.: AB/2025/060) | D1: =+'Anexo N. 8a - Cuadro de Precios'!C1 -> NOMBRE LICITADOR
A3: =+'Anexo N. 8a - Cuadro de Precios'!A4 -> LOTE Nº 1: Reposición e instalación de 4 bombas del depósito de fango biológico espesado a depósito de fango mixto en la EDAR de Besós
A4: PRESUPUESTO
A6: CÓDIGO | B6: UNIDADES | C6: DESCRIPCIÓN | D6: CANTIDAD | E6: PRECIO UNITARIO | F6: IMPORTE
A7: ='Anexo N. 8a - Cuadro de Precios'!A8 -> 1 | B7: =+'Anexo N. 8a - Cuadro de Precios'!C8 -> Ud | C7: =+'Anexo N. 8a - Cuadro de Precios'!B8 -> Suministro bomba impulsión fangos espesados según documento del PPT | D7: 4 | E7: =+'Anexo N. 8a - Cuadro de Precios'!D8 -> 0 | F7: =+D7*E7 -> 0
A8: ='Anexo N. 8a - Cuadro de Precios'!A9 -> 2 | B8: =+'Anexo N. 8a - Cuadro de Precios'!C9 -> Ud | C8: =+'Anexo N. 8a - Cuadro de Precios'!B9 -> Montaje mecánico y eléctrico bomba hasta un perfecto funcionamiento | D8: 4 | E8: =+'Anexo N. 8a - Cuadro de Precios'!D9 -> 0 | F8: =+D8*E8 -> 0
A9: ='Anexo N. 8a - Cuadro de Precios'!A10 -> 3 | B9: =+'Anexo N. 8a - Cuadro de Precios'!C10 -> Ud | C9: =+'Anexo N. 8a - Cuadro de Precios'!B10 -> Instalación y montaje de sensor de trabajo en vacío (sensor de temperatura) | D9: 4 | E9: =+'Anexo N. 8a - Cuadro de Precios'!D10 -> 0 | F9: =+D9*E9 -> 0
A10: ='Anexo N. 8a - Cuadro de Precios'!A11 -> 4 | B10: =+'Anexo N. 8a - Cuadro de Precios'!C11 -> PA | C10: =+'Anexo N. 8a - Cuadro de Precios'!B11 -> Partida alzada a justificar para la gestión de residuos generados durante la ejecución de los trabajos | D10: 1 | E10: =+'Anexo N. 8a - Cuadro de Precios'!D11 -> 0 | F10: =+D10*E10 -> 0
A11: ='Anexo N. 8a - Cuadro de Precios'!A12 -> 5 | B11: =+'Anexo N. 8a - Cuadro de Precios'!C12 -> PA | C11: =+'Anexo N. 8a - Cuadro de Precios'!B12 -> Partida alzada a justificar para la Prevención de Riesgos Laborales durante la ejecución de los trabajos | D11: 1 | E11: =+'Anexo N. 8a - Cuadro de Precios'!D12 -> 0 | F11: =+D11*E11 -> 0
C12: TOTAL | F12: =SUM(F7:F11) -> 0
C14: TOTAL EJECUCIÓN POR CONTRATO (SIN IVA)………………………………………. | F14: =+F12 -> 0
C16: IVA (21%) | F16: =F14*0.21 -> 0
C18: TOTAL EJECUCIÓN POR CONTRATO (IVA INCLUIDO)……………………………… | F18: =F14+F16 -> 0
C21: =+'Anexo N. 8a - Cuadro de Precios'!B15 -> (LUGAR, FECHA Y FIRMA)

Sheet Anexo N. 8b - Cuadro de Precios
B1: REPOSICIÓN E INSTALACIÓN DE DIFERENTES EQUIPOS MECÁNICOS EN LA LÍNEA DE FANGOS EN EL PERÍMETRO DE SANEAMIENTO DE AIGÜES DE BARCELONA (Nº EXP.: AB/2025/060) | C1: NOMBRE LICITADOR
A4: LOTE Nº 2: Reposición e instalación de 6 bombas de depósito de fango biológico a alimentación a centrífugas de espesamiento en la EDAR de Besós
A5: CUADRO DE PRECIOS
A7: CÓDIGO | B7: DESCRIPCIÓN | C7: UNIDADES | D7: PRECIO UNITARIO
A8: 1 | B8: Suministro bomba impulsión fangos espesados según documento del PPT | C8: Ud
A9: 2 | B9: Montaje mecánico y eléctrico bomba hasta un perfecto funcionamiento | C9: Ud
A10: 3 | B10: Instalación y montaje de sensor de trabajo en vacío (sensor de temperatura) | C10: Ud
A11: 4 | B11: Partida alzada a justificar para la gestión de residuos generados durante la ejecución de los trabajos | C11: PA
A12: 5 | B12: Partida alzada a justificar para la Prevención de Riesgos Laborales durante la ejecución de los trabajos | C12: PA
B15: (LUGAR, FECHA Y FIRMA)
B22: Los precios no incluyen el Impuesto sobre el Valor Añadido (IVA, 21%).
B25: INSTRUCCIONES:
B26: Los campos con formatos en color negro no son editables, SÓLO INTRODUCIR LOS PRECIOS UNITARIOS (EN COLOR ROJO) PARA CADA PARTIDA

Sheet Anexo N. 9b - Presupuesto
C1: =+'Anexo N. 8b - Cuadro de Precios'!B1 -> REPOSICIÓN E INSTALACIÓN DE DIFERENTES EQUIPOS MECÁNICOS EN LA LÍNEA DE FANGOS EN EL PERÍMETRO DE SANEAMIENTO DE AIGÜES DE BARCELONA (Nº EXP.: AB/2025/060) | D1: =+'Anexo N. 8b - Cuadro de Precios'!C1 -> NOMBRE LICITADOR
A3: =+'Anexo N. 8b - Cuadro de Precios'!A4 -> LOTE Nº 2: Reposición e instalación de 6 bombas de depósito de fango biológico a alimentación a centrífugas de espesamiento en la EDAR de Besós
A4: PRESUPUESTO
A6: CÓDIGO | B6: UNIDADES | C6: DESCRIPCIÓN | D6: CANTIDAD | E6: PRECIO UNITARIO | F6: IMPORTE
A7: ='Anexo N. 8b - Cuadro de Precios'!A8 -> 1 | B7: =+'Anexo N. 8b - Cuadro de Precios'!C8 -> Ud | C7: =+'Anexo N. 8b - Cuadro de Precios'!B8 -> Suministro bomba impulsión fangos espesados según documento del PPT | D7: 6 | E7: =+'Anexo N. 8b - Cuadro de Precios'!D8 -> 0 | F7: =+D7*E7 -> 0
A8: ='Anexo N. 8b - Cuadro de Precios'!A9 -> 2 | B8: =+'Anexo N. 8b - Cuadro de Precios'!C9 -> Ud | C8: =+'Anexo N. 8b - Cuadro de Precios'!B9 -> Montaje mecánico y eléctrico bomba hasta un perfecto funcionamiento | D8: 6 | E8: =+'Anexo N. 8b - Cuadro de Precios'!D9 -> 0 | F8: =+D8*E8 -> 0
A9: ='Anexo N. 8b - Cuadro de Precios'!A10 -> 3 | B9: =+'Anexo N. 8b - Cuadro de Precios'!C10 -> Ud | C9: =+'Anexo N. 8b - Cuadro de Precios'!B10 -> Instalación y montaje de sensor de trabajo en vacío (sensor de temperatura) | D9: 6 | E9: =+'Anexo N. 8b - Cuadro de Precios'!D10 -> 0 | F9: =+D9*E9 -> 0
A10: ='Anexo N. 8b - Cuadro de Precios'!A11 -> 4 | B10: =+'Anexo N. 8b - Cuadro de Precios'!C11 -> PA | C10: =+'Anexo N. 8b - Cuadro de Precios'!B11 -> Partida alzada a justificar para la gestión de residuos generados durante la ejecución de los trabajos | D10: 1 | E10: =+'Anexo N. 8b - Cuadro de Precios'!D11 -> 0 | F10: =+D10*E10 -> 0
A11: ='Anexo N. 8b - Cuadro de Precios'!A12 -> 5 | B11: =+'Anexo N. 8b - Cuadro de Precios'!C12 -> PA | C11: =+'Anexo N. 8b - Cuadro de Precios'!B12 -> Partida alzada a justificar para la Prevención de Riesgos Laborales durante la ejecución de los trabajos | D11: 1 | E11: =+'Anexo N. 8b - Cuadro de Precios'!D12 -> 0 | F11: =+D11*E11 -> 0
C12: TOTAL | F12: =SUM(F7:F11) -> 0
C14: TOTAL EJECUCIÓN POR CONTRATO (SIN IVA)………………………………………. | F14: =+F12 -> 0
C16: IVA (21%) | F16: =F14*0.21 -> 0
C18: TOTAL EJECUCIÓN POR CONTRATO (IVA INCLUIDO)……………………………… | F18: =F14+F16 -> 0
C21: =+'Anexo N. 8b - Cuadro de Precios'!B15 -> (LUGAR, FECHA Y FIRMA)

Sheet Anexo N. 8c - Cuadro de Precios
B1: REPOSICIÓN E INSTALACIÓN DE DIFERENTES EQUIPOS MECÁNICOS EN LA LÍNEA DE FANGOS EN EL PERÍMETRO DE SANEAMIENTO DE AIGÜES DE BARCELONA (Nº EXP.: AB/2025/060) | C1: NOMBRE LICITADOR
A4: LOTE Nº 3: Reposición y mejora de los depósitos de polielectrolito en la EDAR de Sant Feliu de Llobregat
A5: CUADRO DE PRECIOS
A7: CÓDIGO | B7: DESCRIPCIÓN | C7: UNIDADES | D7: PRECIO UNITARIO
A8: 1 | B8: Suministro y montaje de depósito de 9 m3 según especificaciones técnicas mínimas incluidas en PPT | C8: Ud
A9: 2 | B9: Suministro y montaje de agitador de dos aspas una marina y otra para emulsionar | C9: Ud
A10: 3 | B10: Suministro y montaje de escaleras y barandillas para acceder a la zona superior de los depósitos y a los motores de los agitadores | C10: Ud
A11: 4 | B11: Partida alzada a justificar para la gestión de residuos generados durante la ejecución de los trabajos | C11: PA
A12: 5 | B12: Partida alzada a justificar para la Prevención de Riesgos Laborales durante la ejecución de los trabajos | C12: PA
B15: (LUGAR, FECHA Y FIRMA)
B22: Los precios no incluyen el Impuesto sobre el Valor Añadido (IVA, 21%).
B25: INSTRUCCIONES:
B26: Los campos con formatos en color negro no son editables, SÓLO INTRODUCIR LOS PRECIOS UNITARIOS (EN COLOR ROJO) PARA CADA PARTIDA

Sheet Anexo N. 9c - Presupuesto
C1: =+'Anexo N. 8c - Cuadro de Precios'!B1 -> REPOSICIÓN E INSTALACIÓN DE DIFERENTES EQUIPOS MECÁNICOS EN LA LÍNEA DE FANGOS EN EL PERÍMETRO DE SANEAMIENTO DE AIGÜES DE BARCELONA (Nº EXP.: AB/2025/060) | D1: =+'Anexo N. 8c - Cuadro de Precios'!C1 -> NOMBRE LICITADOR
A3: =+'Anexo N. 8c - Cuadro de Precios'!A4 -> LOTE Nº 3: Reposición y mejora de los depósitos de polielectrolito en la EDAR de Sant Feliu de Llobregat
A4: PRESUPUESTO
A6: CÓDIGO | B6: UNIDADES | C6: DESCRIPCIÓN | D6: CANTIDAD | E6: PRECIO UNITARIO | F6: IMPORTE
A7: ='Anexo N. 8c - Cuadro de Precios'!A8 -> 1 | B7: =+'Anexo N. 8c - Cuadro de Precios'!C8 -> Ud | C7: =+'Anexo N. 8c - Cuadro de Precios'!B8 -> Suministro y montaje de depósito de 9 m3 según especificaciones técnicas mínimas incluidas en PPT | D7: 2 | E7: =+'Anexo N. 8c - Cuadro de Precios'!D8 -> 0 | F7: =+D7*E7 -> 0
A8: ='Anexo N. 8c - Cuadro de Precios'!A9 -> 2 | B8: =+'Anexo N. 8c - Cuadro de Precios'!C9 -> Ud | C8: =+'Anexo N. 8c - Cuadro de Precios'!B9 -> Suministro y montaje de agitador de dos aspas una marina y otra para emulsionar | D8: 2 | E8: =+'Anexo N. 8c - Cuadro de Precios'!D9 -> 0 | F8: =+D8*E8 -> 0
A9: ='Anexo N. 8c - Cuadro de Precios'!A10 -> 3 | B9: =+'Anexo N. 8c - Cuadro de Precios'!C10 -> Ud | C9: =+'Anexo N. 8c - Cuadro de Precios'!B10 -> Suministro y montaje de escaleras y barandillas para acceder a la zona superior de los depósitos y a los motores de los agitadores | D9: 1 | E9: =+'Anexo N. 8c - Cuadro de Precios'!D10 -> 0 | F9: =+D9*E9 -> 0
A10: ='Anexo N. 8c - Cuadro de Precios'!A11 -> 4 | B10: =+'Anexo N. 8c - Cuadro de Precios'!C11 -> PA | C10: =+'Anexo N. 8c - Cuadro de Precios'!B11 -> Partida alzada a justificar para la gestión de residuos generados durante la ejecución de los trabajos | D10: 1 | E10: =+'Anexo N. 8c - Cuadro de Precios'!D11 -> 0 | F10: =+D10*E10 -> 0
A11: ='Anexo N. 8c - Cuadro de Precios'!A12 -> 5 | B11: =+'Anexo N. 8c - Cuadro de Precios'!C12 -> PA | C11: =+'Anexo N. 8c - Cuadro de Precios'!B12 -> Partida alzada a justificar para la Prevención de Riesgos Laborales durante la ejecución de los trabajos | D11: 1 | E11: =+'Anexo N. 8c - Cuadro de Precios'!D12 -> 0 | F11: =+D11*E11 -> 0
C12: TOTAL | F12: =SUM(F7:F11) -> 0
C14: TOTAL EJECUCIÓN POR CONTRATO (SIN IVA)………………………………………. | F14: =+F12 -> 0
C16: IVA (21%) | F16: =F14*0.21 -> 0
C18: TOTAL EJECUCIÓN POR CONTRATO (IVA INCLUIDO)……………………………… | F18: =F14+F16 -> 0
C21: =+'Anexo N. 8c - Cuadro de Precios'!B15 -> (LUGAR, FECHA Y FIRMA)

Sheet Anexo N. 8d - Cuadro de Precios
B1: REPOSICIÓN E INSTALACIÓN DE DIFERENTES EQUIPOS MECÁNICOS EN LA LÍNEA DE FANGOS EN EL PERÍMETRO DE SANEAMIENTO DE AIGÜES DE BARCELONA (Nº EXP.: AB/2025/060) | C1: NOMBRE LICITADOR
A4: LOTE Nº 4: Reposición y mejora de la refrigeración del sistema de secado del biogás de la EDAR Baix Llobregat
A5: CUADRO DE PRECIOS
A7: CÓDIGO | B7: DESCRIPCIÓN | C7: UNIDADES | D7: PRECIO UNITARIO
A8: 1 | B8: Suministro del equipo de frío | C8: Ud
A9: 2 | B9: Instalación del equipo hasta un perfecto funcionamiento | C9: Ud
A10: 3 | B10: Proyecto de legalización llaves en mano | C10: Ud
A11: 4 | B11: Partida alzada a justificar para la gestión de residuos generados durante la ejecución de los trabajos | C11: PA
A12: 5 | B12: Partida alzada a justificar para la Prevención de Riesgos Laborales durante la ejecución de los trabajos | C12: PA
B15: (LUGAR, FECHA Y FIRMA)
B22: Los precios no incluyen el Impuesto sobre el Valor Añadido (IVA, 21%).
B25: INSTRUCCIONES:
B26: Los campos con formatos en color negro no son editables, SÓLO INTRODUCIR LOS PRECIOS UNITARIOS (EN COLOR ROJO) PARA CADA PARTIDA

Sheet Anexo N. 9d - Presupuesto
C1: =+'Anexo N. 8d - Cuadro de Precios'!B1 -> REPOSICIÓN E INSTALACIÓN DE DIFERENTES EQUIPOS MECÁNICOS EN LA LÍNEA DE FANGOS EN EL PERÍMETRO DE SANEAMIENTO DE AIGÜES DE BARCELONA (Nº EXP.: AB/2025/060) | D1: =+'Anexo N. 8d - Cuadro de Precios'!C1 -> NOMBRE LICITADOR
A3: =+'Anexo N. 8d - Cuadro de Precios'!A4 -> LOTE Nº 4: Reposición y mejora de la refrigeración del sistema de secado del biogás de la EDAR Baix Llobregat
A4: PRESUPUESTO
A6: CÓDIGO | B6: UNIDADES | C6: DESCRIPCIÓN | D6: CANTIDAD | E6: PRECIO UNITARIO | F6: IMPORTE
A7: ='Anexo N. 8d - Cuadro de Precios'!A8 -> 1 | B7: =+'Anexo N. 8d - Cuadro de Precios'!C8 -> Ud | C7: =+'Anexo N. 8d - Cuadro de Precios'!B8 -> Suministro del equipo de frío | D7: 1 | E7: =+'Anexo N. 8d - Cuadro de Precios'!D8 -> 0 | F7: =+D7*E7 -> 0
A8: ='Anexo N. 8d - Cuadro de Precios'!A9 -> 2 | B8: =+'Anexo N. 8d - Cuadro de Precios'!C9 -> Ud | C8: =+'Anexo N. 8d - Cuadro de Precios'!B9 -> Instalación del equipo hasta un perfecto funcionamiento | D8: 1 | E8: =+'Anexo N. 8d - Cuadro de Precios'!D9 -> 0 | F8: =+D8*E8 -> 0
A9: ='Anexo N. 8d - Cuadro de Precios'!A10 -> 3 | B9: =+'Anexo N. 8d - Cuadro de Precios'!C10 -> Ud | C9: =+'Anexo N. 8d - Cuadro de Precios'!B10 -> Proyecto de legalización llaves en mano | D9: 1 | E9: =+'Anexo N. 8d - Cuadro de Precios'!D10 -> 0 | F9: =+D9*E9 -> 0
A10: ='Anexo N. 8d - Cuadro de Precios'!A11 -> 4 | B10: =+'Anexo N. 8d - Cuadro de Precios'!C11 -> PA | C10: =+'Anexo N. 8d - Cuadro de Precios'!B11 -> Partida alzada a justificar para la gestión de residuos generados durante la ejecución de los trabajos | D10: 1 | E10: =+'Anexo N. 8d - Cuadro de Precios'!D11 -> 0 | F10: =+D10*E10 -> 0
A11: ='Anexo N. 8d - Cuadro de Precios'!A12 -> 5 | B11: =+'Anexo N. 8d - Cuadro de Precios'!C12 -> PA | C11: =+'Anexo N. 8d - Cuadro de Precios'!B12 -> Partida alzada a justificar para la Prevención de Riesgos Laborales durante la ejecución de los trabajos | D11: 1 | E11: =+'Anexo N. 8d - Cuadro de Precios'!D12 -> 0 | F11: =+D11*E11 -> 0
C12: TOTAL | F12: =SUM(F7:F11) -> 0
C14: TOTAL EJECUCIÓN POR CONTRATO (SIN IVA)………………………………………. | F14: =+F12 -> 0
C16: IVA (21%) | F16: =F14*0.21 -> 0
C18: TOTAL EJECUCIÓN POR CONTRATO (IVA INCLUIDO)……………………………… | F18: =F14+F16 -> 0
C21: =+'Anexo N. 8d - Cuadro de Precios'!B15 -> (LUGAR, FECHA Y FIRMA)

Sheet Anexo N. 8e - Cuadro de Precios
B1: REPOSICIÓN E INSTALACIÓN DE DIFERENTES EQUIPOS MECÁNICOS EN LA LÍNEA DE FANGOS EN EL PERÍMETRO DE SANEAMIENTO DE AIGÜES DE BARCELONA (Nº EXP.: AB/2025/060) | C1: NOMBRE LICITADOR
A4: LOTE Nº 5: Reposición e instalación de 6 bombas de alimentación de fango primario a tamizaje en la EDAR de Besós
A5: CUADRO DE PRECIOS
A7: CÓDIGO | B7: DESCRIPCIÓN | C7: UNIDADES | D7: PRECIO UNITARIO
A8: 1 | B8: Suministro bomba impulsión fangos espesados según documento del PPT | C8: Ud
A9: 2 | B9: Montaje mecánico y eléctrico bomba hasta un perfecto funcionamiento | C9: Ud
A10: 3 | B10: Instalación y montaje de sensor de trabajo en vacío (sensor de temperatura) | C10: Ud
A11: 4 | B11: Partida alzada a justificar para la gestión de residuos generados durante la ejecución de los trabajos | C11: PA
A12: 5 | B12: Partida alzada a justificar para la Prevención de Riesgos Laborales durante la ejecución de los trabajos | C12: PA
B15: (LUGAR, FECHA Y FIRMA)
B22: Los precios no incluyen el Impuesto sobre el Valor Añadido (IVA, 21%).
B25: INSTRUCCIONES:
B26: Los campos con formatos en color negro no son editables, SÓLO INTRODUCIR LOS PRECIOS UNITARIOS (EN COLOR ROJO) PARA CADA PARTIDA

Sheet Anexo N. 9e - Presupuesto
C1: =+'Anexo N. 8e - Cuadro de Precios'!B1 -> REPOSICIÓN E INSTALACIÓN DE DIFERENTES EQUIPOS MECÁNICOS EN LA LÍNEA DE FANGOS EN EL PERÍMETRO DE SANEAMIENTO DE AIGÜES DE BARCELONA (Nº EXP.: AB/2025/060) | D1: =+'Anexo N. 8e - Cuadro de Precios'!C1 -> NOMBRE LICITADOR
A3: =+'Anexo N. 8e - Cuadro de Precios'!A4 -> LOTE Nº 5: Reposición e instalación de 6 bombas de alimentación de fango primario a tamizaje en la EDAR de Besós
A4: PRESUPUESTO
A6: CÓDIGO | B6: UNIDADES | C6: DESCRIPCIÓN | D6: CANTIDAD | E6: PRECIO UNITARIO | F6: IMPORTE
A7: ='Anexo N. 8e - Cuadro de Precios'!A8 -> 1 | B7: =+'Anexo N. 8e - Cuadro de Precios'!C8 -> Ud | C7: =+'Anexo N. 8e - Cuadro de Precios'!B8 -> Suministro bomba impulsión fangos espesados según documento del PPT | D7: 6 | E7: =+'Anexo N. 8e - Cuadro de Precios'!D8 -> 0 | F7: =+D7*E7 -> 0
A8: ='Anexo N. 8e - Cuadro de Precios'!A9 -> 2 | B8: =+'Anexo N. 8e - Cuadro de Precios'!C9 -> Ud | C8: =+'Anexo N. 8e - Cuadro de Precios'!B9 -> Montaje mecánico y eléctrico bomba hasta un perfecto funcionamiento | D8: 6 | E8: =+'Anexo N. 8e - Cuadro de Precios'!D9 -> 0 | F8: =+D8*E8 -> 0
A9: ='Anexo N. 8e - Cuadro de Precios'!A10 -> 3 | B9: =+'Anexo N. 8e - Cuadro de Precios'!C10 -> Ud | C9: =+'Anexo N. 8e - Cuadro de Precios'!B10 -> Instalación y montaje de sensor de trabajo en vacío (sensor de temperatura) | D9: 6 | E9: =+'Anexo N. 8e - Cuadro de Precios'!D10 -> 0 | F9: =+D9*E9 -> 0
A10: ='Anexo N. 8e - Cuadro de Precios'!A11 -> 4 | B10: =+'Anexo N. 8e - Cuadro de Precios'!C11 -> PA | C10: =+'Anexo N. 8e - Cuadro de Precios'!B11 -> Partida alzada a justificar para la gestión de residuos generados durante la ejecución de los trabajos | D10: 1 | E10: =+'Anexo N. 8e - Cuadro de Precios'!D11 -> 0 | F10: =+D10*E10 -> 0
A11: ='Anexo N. 8e - Cuadro de Precios'!A12 -> 5 | B11: =+'Anexo N. 8e - Cuadro de Precios'!C12 -> PA | C11: =+'Anexo N. 8e - Cuadro de Precios'!B12 -> Partida alzada a justificar para la Prevención de Riesgos Laborales durante la ejecución de los trabajos | D11: 1 | E11: =+'Anexo N. 8e - Cuadro de Precios'!D12 -> 0 | F11: =+D11*E11 -> 0
C12: TOTAL | F12: =SUM(F7:F11) -> 0
C14: TOTAL EJECUCIÓN POR CONTRATO (SIN IVA)………………………………………. | F14: =+F12 -> 0
C16: IVA (21%) | F16: =F14*0.21 -> 0
C18: TOTAL EJECUCIÓN POR CONTRATO (IVA INCLUIDO)……………………………… | F18: =F14+F16 -> 0
C21: =+'Anexo N. 8e - Cuadro de Precios'!B15 -> (LUGAR, FECHA Y FIRMA)
